BEGIN:VCALENDAR
VERSION:2.0
PRODID:-//Job Gym Employment Services - ECPv6.15.20//NONSGML v1.0//EN
CALSCALE:GREGORIAN
METHOD:PUBLISH
X-WR-CALNAME:Job Gym Employment Services
X-ORIGINAL-URL:https://www.jobgym.com
X-WR-CALDESC:Events for Job Gym Employment Services
REFRESH-INTERVAL;VALUE=DURATION:PT1H
X-Robots-Tag:noindex
X-PUBLISHED-TTL:PT1H
BEGIN:VTIMEZONE
TZID:America/Toronto
BEGIN:DAYLIGHT
TZOFFSETFROM:-0500
TZOFFSETTO:-0400
TZNAME:EDT
DTSTART:20220313T070000
END:DAYLIGHT
BEGIN:STANDARD
TZOFFSETFROM:-0400
TZOFFSETTO:-0500
TZNAME:EST
DTSTART:20221106T060000
END:STANDARD
BEGIN:DAYLIGHT
TZOFFSETFROM:-0500
TZOFFSETTO:-0400
TZNAME:EDT
DTSTART:20230312T070000
END:DAYLIGHT
BEGIN:STANDARD
TZOFFSETFROM:-0400
TZOFFSETTO:-0500
TZNAME:EST
DTSTART:20231105T060000
END:STANDARD
BEGIN:DAYLIGHT
TZOFFSETFROM:-0500
TZOFFSETTO:-0400
TZNAME:EDT
DTSTART:20240310T070000
END:DAYLIGHT
BEGIN:STANDARD
TZOFFSETFROM:-0400
TZOFFSETTO:-0500
TZNAME:EST
DTSTART:20241103T060000
END:STANDARD
END:VTIMEZONE
BEGIN:VEVENT
DTSTART;TZID=America/Toronto:20230725T090000
DTEND;TZID=America/Toronto:20230725T100000
DTSTAMP:20260424T071710
CREATED:20230711T033253Z
LAST-MODIFIED:20230711T140952Z
UID:19057-1690275600-1690279200@www.jobgym.com
SUMMARY:Canadian Armed Forces Information Sessions
DESCRIPTION:Looking for local part-time job opportunities? With flexible training calendars that fit with most full-time jobs or school schedules\, choose from a variety of occupations based on your interests and skills. High school students in Grade 11 or 12 can benefit from our Second Semester COOP program\, earning 4 credits and receiving paid training. Additionally\, joining our reserves can help you financially support your post-secondary education. Don’t miss out on these incredible opportunities! \nBasic Eligibility to be able to apply: \n\nBetween ages of 16-57\nCanadian citizen or permanent resident\nAt least 15 high school credits (grade 10 completed)
URL:https://www.jobgym.com/event/canadian-armed-forces-information-sessions/
LOCATION:Job Gym – Welland\, 225 East Main Street\, Welland\, Ontario\, L3B 3W7\, Canada
CATEGORIES:Information Session
ATTACH;FMTTYPE=image/jpeg:https://www.jobgym.com/wp-content/uploads/2023/07/Canada-Forces.jpg
END:VEVENT
BEGIN:VEVENT
DTSTART;TZID=America/Toronto:20230727T140000
DTEND;TZID=America/Toronto:20230727T150000
DTSTAMP:20260424T071710
CREATED:20230711T033336Z
LAST-MODIFIED:20230711T140944Z
UID:19059-1690466400-1690470000@www.jobgym.com
SUMMARY:Canadian Armed Forces Information Sessions
DESCRIPTION:Looking for local part-time job opportunities? With flexible training calendars that fit with most full-time jobs or school schedules\, choose from a variety of occupations based on your interests and skills. High school students in Grade 11 or 12 can benefit from our Second Semester COOP program\, earning 4 credits and receiving paid training. Additionally\, joining our reserves can help you financially support your post-secondary education. Don’t miss out on these incredible opportunities! \nBasic Eligibility to be able to apply: \n\nBetween ages of 16-57\nCanadian citizen or permanent resident\nAt least 15 high school credits (grade 10 completed)
URL:https://www.jobgym.com/event/canadian-armed-forces-information-sessions-2/
LOCATION:Job Gym – Fort Erie\, 469 Central Avenue\, Fort Erie\, Ontario\, L2A 3T8\, Canada
CATEGORIES:Information Session
ATTACH;FMTTYPE=image/jpeg:https://www.jobgym.com/wp-content/uploads/2023/07/Canada-Forces.jpg
END:VEVENT
END:VCALENDAR