BEGIN:VCALENDAR
VERSION:2.0
PRODID:-//Job Gym Employment Services - ECPv6.15.20//NONSGML v1.0//EN
CALSCALE:GREGORIAN
METHOD:PUBLISH
X-WR-CALNAME:Job Gym Employment Services
X-ORIGINAL-URL:https://www.jobgym.com
X-WR-CALDESC:Events for Job Gym Employment Services
REFRESH-INTERVAL;VALUE=DURATION:PT1H
X-Robots-Tag:noindex
X-PUBLISHED-TTL:PT1H
BEGIN:VTIMEZONE
TZID:America/Toronto
BEGIN:DAYLIGHT
TZOFFSETFROM:-0500
TZOFFSETTO:-0400
TZNAME:EDT
DTSTART:20230312T070000
END:DAYLIGHT
BEGIN:STANDARD
TZOFFSETFROM:-0400
TZOFFSETTO:-0500
TZNAME:EST
DTSTART:20231105T060000
END:STANDARD
BEGIN:DAYLIGHT
TZOFFSETFROM:-0500
TZOFFSETTO:-0400
TZNAME:EDT
DTSTART:20240310T070000
END:DAYLIGHT
BEGIN:STANDARD
TZOFFSETFROM:-0400
TZOFFSETTO:-0500
TZNAME:EST
DTSTART:20241103T060000
END:STANDARD
BEGIN:DAYLIGHT
TZOFFSETFROM:-0500
TZOFFSETTO:-0400
TZNAME:EDT
DTSTART:20250309T070000
END:DAYLIGHT
BEGIN:STANDARD
TZOFFSETFROM:-0400
TZOFFSETTO:-0500
TZNAME:EST
DTSTART:20251102T060000
END:STANDARD
END:VTIMEZONE
BEGIN:VEVENT
DTSTART;TZID=America/Toronto:20240319T150000
DTEND;TZID=America/Toronto:20240319T160000
DTSTAMP:20260423T181314
CREATED:20240209T174522Z
LAST-MODIFIED:20240209T174522Z
UID:19768-1710860400-1710864000@www.jobgym.com
SUMMARY:City Cruises Virtual Recruitment Information Session
DESCRIPTION:Join us to learn more about City Cruises and their upcoming opportunities! This is a fantastic way to prepare for their upcoming in-person Job Fair to help you identify if they are the right fit for you and tips to put your best foot forward in your job fair interview!
URL:https://www.jobgym.com/event/city-cruises-virtual-recruitment-information-session/
CATEGORIES:Information Session
END:VEVENT
END:VCALENDAR