BEGIN:VCALENDAR
VERSION:2.0
PRODID:-//Job Gym Employment Services - ECPv6.15.20//NONSGML v1.0//EN
CALSCALE:GREGORIAN
METHOD:PUBLISH
X-ORIGINAL-URL:https://www.jobgym.com
X-WR-CALDESC:Events for Job Gym Employment Services
REFRESH-INTERVAL;VALUE=DURATION:PT1H
X-Robots-Tag:noindex
X-PUBLISHED-TTL:PT1H
BEGIN:VTIMEZONE
TZID:America/Toronto
BEGIN:DAYLIGHT
TZOFFSETFROM:-0500
TZOFFSETTO:-0400
TZNAME:EDT
DTSTART:20230312T070000
END:DAYLIGHT
BEGIN:STANDARD
TZOFFSETFROM:-0400
TZOFFSETTO:-0500
TZNAME:EST
DTSTART:20231105T060000
END:STANDARD
BEGIN:DAYLIGHT
TZOFFSETFROM:-0500
TZOFFSETTO:-0400
TZNAME:EDT
DTSTART:20240310T070000
END:DAYLIGHT
BEGIN:STANDARD
TZOFFSETFROM:-0400
TZOFFSETTO:-0500
TZNAME:EST
DTSTART:20241103T060000
END:STANDARD
BEGIN:DAYLIGHT
TZOFFSETFROM:-0500
TZOFFSETTO:-0400
TZNAME:EDT
DTSTART:20250309T070000
END:DAYLIGHT
BEGIN:STANDARD
TZOFFSETFROM:-0400
TZOFFSETTO:-0500
TZNAME:EST
DTSTART:20251102T060000
END:STANDARD
END:VTIMEZONE
BEGIN:VEVENT
DTSTART;TZID=America/Toronto:20240820T103000
DTEND;TZID=America/Toronto:20240820T113000
DTSTAMP:20260423T102705
CREATED:20240724T044032Z
LAST-MODIFIED:20240801T045624Z
UID:20609-1724149800-1724153400@www.jobgym.com
SUMMARY:Altis Virtual Recruitment Information Session!
DESCRIPTION:Are you ready to take the next step in your sales career?\nJoin us for an exclusive virtual information session where you can: \n\nLearn About Altis Recruitment: Discover who they are and what makes them a leader in the recruitment industry.\nUnderstand the Role: Get a detailed overview of the Sales Account Representative position.\nFind Out What Employers Are Looking For: Learn about the skills and qualities that make a successful candidate.\nLearn How to Apply: Get step-by-step guidance on the application process.
URL:https://www.jobgym.com/event/altis-virtual-recruitment-information-session/
CATEGORIES:Information Session
ATTACH;FMTTYPE=image/jpeg:https://www.jobgym.com/wp-content/uploads/2024/07/Altis-Info-Session2.jpg
END:VEVENT
END:VCALENDAR