BEGIN:VCALENDAR
VERSION:2.0
PRODID:-//Job Gym Employment Services - ECPv6.15.20//NONSGML v1.0//EN
CALSCALE:GREGORIAN
METHOD:PUBLISH
X-ORIGINAL-URL:https://www.jobgym.com
X-WR-CALDESC:Events for Job Gym Employment Services
REFRESH-INTERVAL;VALUE=DURATION:PT1H
X-Robots-Tag:noindex
X-PUBLISHED-TTL:PT1H
BEGIN:VTIMEZONE
TZID:America/Toronto
BEGIN:DAYLIGHT
TZOFFSETFROM:-0500
TZOFFSETTO:-0400
TZNAME:EDT
DTSTART:20220313T070000
END:DAYLIGHT
BEGIN:STANDARD
TZOFFSETFROM:-0400
TZOFFSETTO:-0500
TZNAME:EST
DTSTART:20221106T060000
END:STANDARD
BEGIN:DAYLIGHT
TZOFFSETFROM:-0500
TZOFFSETTO:-0400
TZNAME:EDT
DTSTART:20230312T070000
END:DAYLIGHT
BEGIN:STANDARD
TZOFFSETFROM:-0400
TZOFFSETTO:-0500
TZNAME:EST
DTSTART:20231105T060000
END:STANDARD
BEGIN:DAYLIGHT
TZOFFSETFROM:-0500
TZOFFSETTO:-0400
TZNAME:EDT
DTSTART:20240310T070000
END:DAYLIGHT
BEGIN:STANDARD
TZOFFSETFROM:-0400
TZOFFSETTO:-0500
TZNAME:EST
DTSTART:20241103T060000
END:STANDARD
END:VTIMEZONE
BEGIN:VEVENT
DTSTART;TZID=America/Toronto:20230802T110000
DTEND;TZID=America/Toronto:20230802T150000
DTSTAMP:20260424T053329
CREATED:20230727T032459Z
LAST-MODIFIED:20230727T033428Z
UID:19076-1690974000-1690988400@www.jobgym.com
SUMMARY:Great Wolf Lodge – Aquatics Job Fair
DESCRIPTION:Great Wolf Lodge will be hosting an Aquatics Job Fair at the Lodge on Wednesday August 2nd\, 11am-3pm. We invite interested applicants to please complete the registration and brief screening questions through the QR code.
URL:https://www.jobgym.com/event/great-wolf-lodge-aquatics-job-fair-2/
LOCATION:Great Wolf Lodge\, 3950 Victoria Ave.\, Niagara Falls\, Ontario\, Canada
CATEGORIES:Job Fair
ATTACH;FMTTYPE=image/jpeg:https://www.jobgym.com/wp-content/uploads/2023/07/Great-Wolf-Lodge-Job-Fair.jpg
END:VEVENT
END:VCALENDAR