BEGIN:VCALENDAR
VERSION:2.0
PRODID:-//Job Gym Employment Services - ECPv6.15.20//NONSGML v1.0//EN
CALSCALE:GREGORIAN
METHOD:PUBLISH
X-WR-CALNAME:Job Gym Employment Services
X-ORIGINAL-URL:https://www.jobgym.com
X-WR-CALDESC:Events for Job Gym Employment Services
REFRESH-INTERVAL;VALUE=DURATION:PT1H
X-Robots-Tag:noindex
X-PUBLISHED-TTL:PT1H
BEGIN:VTIMEZONE
TZID:America/Toronto
BEGIN:DAYLIGHT
TZOFFSETFROM:-0500
TZOFFSETTO:-0400
TZNAME:EDT
DTSTART:20220313T070000
END:DAYLIGHT
BEGIN:STANDARD
TZOFFSETFROM:-0400
TZOFFSETTO:-0500
TZNAME:EST
DTSTART:20221106T060000
END:STANDARD
BEGIN:DAYLIGHT
TZOFFSETFROM:-0500
TZOFFSETTO:-0400
TZNAME:EDT
DTSTART:20230312T070000
END:DAYLIGHT
BEGIN:STANDARD
TZOFFSETFROM:-0400
TZOFFSETTO:-0500
TZNAME:EST
DTSTART:20231105T060000
END:STANDARD
BEGIN:DAYLIGHT
TZOFFSETFROM:-0500
TZOFFSETTO:-0400
TZNAME:EDT
DTSTART:20240310T070000
END:DAYLIGHT
BEGIN:STANDARD
TZOFFSETFROM:-0400
TZOFFSETTO:-0500
TZNAME:EST
DTSTART:20241103T060000
END:STANDARD
END:VTIMEZONE
BEGIN:VEVENT
DTSTART;TZID=America/Toronto:20230905T090000
DTEND;TZID=America/Toronto:20230905T130000
DTSTAMP:20260425T214500
CREATED:20230819T042603Z
LAST-MODIFIED:20230819T042603Z
UID:19101-1693904400-1693918800@www.jobgym.com
SUMMARY:Goodwill Industries Job Fair
DESCRIPTION:We are hiring!\n\nSales Associates – All Niagara Locations\nAssistant Manager – Niagara Falls\nLead Sales Associate – Port Colborne\nPayroll Clerk – St Catharines\nDriver/Handler – Welland\nStore Manager – Welland\n\nTake advantage of being able to meet 1-1 with a member of Goodwill’s Human Resources team!\n\n\n\n\n\n\nPre-registration is recommended to guarantee your interview timeslot. Walk in candidates will be accepted and seen in order of arrival.
URL:https://www.jobgym.com/event/goodwill-industries-job-fair/
LOCATION:Job Gym – Welland\, 225 East Main Street\, Welland\, Ontario\, L3B 3W7\, Canada
CATEGORIES:Job Fair
ATTACH;FMTTYPE=image/jpeg:https://www.jobgym.com/wp-content/uploads/2023/08/Goodwill-Job-Fair.jpg
END:VEVENT
BEGIN:VEVENT
DTSTART;TZID=America/Toronto:20230906T140000
DTEND;TZID=America/Toronto:20230906T180000
DTSTAMP:20260425T214500
CREATED:20230825T143326Z
LAST-MODIFIED:20230825T143942Z
UID:19114-1694008800-1694023200@www.jobgym.com
SUMMARY:Steelcon Job Fair
DESCRIPTION:WE ARE HIRING\n\nMachine Operators\nMaterial Handlers\nWelders\n\nTake advantage of being able to meet 1-1 with a member of Steelcon’s Human Resources team!
URL:https://www.jobgym.com/event/steelcon-job-fair-2/
LOCATION:Job Gym – Welland\, 225 East Main Street\, Welland\, Ontario\, L3B 3W7\, Canada
CATEGORIES:Job Fair
ATTACH;FMTTYPE=image/jpeg:https://www.jobgym.com/wp-content/uploads/2023/08/Steelcon.jpg
END:VEVENT
BEGIN:VEVENT
DTSTART;TZID=America/Toronto:20230919T130000
DTEND;TZID=America/Toronto:20230919T180000
DTSTAMP:20260425T214500
CREATED:20230913T072551Z
LAST-MODIFIED:20230913T073733Z
UID:19141-1695128400-1695146400@www.jobgym.com
SUMMARY:Industrial Job Fair
DESCRIPTION:Available Positions: Fitters\, Welders\, Machine Operators\, Material Handlers\, General Labourers\, Millwrights\, QA Coordinator\, Production Supervisor\, Client Relations Specialist\, Delivery Driver\, Warehouse/Delivery Drivers\, Machinists\, Apprentice Machinist and more! \nCONNECT WITH OUR EMPLOYMENT COUNSELLOR TEAM TO RESERVE YOUR INTERVIEWS!\nIf you have any questions regarding this event or need assistance registering\, please contact Job Gym and a member of our team will be happy to assist you. \nRegistered applicants will receive scheduled 1 on 1 time with employers of their choice!
URL:https://www.jobgym.com/event/industrial-job-fair/
LOCATION:Job Gym – Welland\, 225 East Main Street\, Welland\, Ontario\, L3B 3W7\, Canada
CATEGORIES:Job Fair
ATTACH;FMTTYPE=image/jpeg:https://www.jobgym.com/wp-content/uploads/2023/09/Industrial-Job-Fair.jpg
END:VEVENT
BEGIN:VEVENT
DTSTART;TZID=America/Toronto:20230921T100000
DTEND;TZID=America/Toronto:20230921T140000
DTSTAMP:20260425T214500
CREATED:20230913T072619Z
LAST-MODIFIED:20230913T073736Z
UID:19142-1695290400-1695304800@www.jobgym.com
SUMMARY:Industrial Job Fair
DESCRIPTION:Available Positions: General Assembly\, Machine Shop Operators\, Production General Labourers\, Router Operators\, Material Handlers\, Millwrights\, Truck Loaders\, Industrial Electricians\, 310T Mechanic and more! \nCONNECT WITH OUR EMPLOYMENT COUNSELLOR TEAM TO RESERVE YOUR INTERVIEWS!\nIf you have any questions regarding this event or need assistance registering\, please contact Job Gym and a member of our team will be happy to assist you. \nRegistered applicants will receive scheduled 1 on 1 time with employers of their choice!
URL:https://www.jobgym.com/event/industrial-job-fair-2/
LOCATION:Job Gym – Fort Erie\, 469 Central Avenue\, Fort Erie\, Ontario\, L2A 3T8\, Canada
CATEGORIES:Job Fair
ATTACH;FMTTYPE=image/jpeg:https://www.jobgym.com/wp-content/uploads/2023/09/Industrial-Job-Fair.jpg
END:VEVENT
END:VCALENDAR