BEGIN:VCALENDAR
VERSION:2.0
PRODID:-//Job Gym Employment Services - ECPv6.15.20//NONSGML v1.0//EN
CALSCALE:GREGORIAN
METHOD:PUBLISH
X-ORIGINAL-URL:https://www.jobgym.com
X-WR-CALDESC:Events for Job Gym Employment Services
REFRESH-INTERVAL;VALUE=DURATION:PT1H
X-Robots-Tag:noindex
X-PUBLISHED-TTL:PT1H
BEGIN:VTIMEZONE
TZID:America/Toronto
BEGIN:DAYLIGHT
TZOFFSETFROM:-0500
TZOFFSETTO:-0400
TZNAME:EDT
DTSTART:20210314T070000
END:DAYLIGHT
BEGIN:STANDARD
TZOFFSETFROM:-0400
TZOFFSETTO:-0500
TZNAME:EST
DTSTART:20211107T060000
END:STANDARD
BEGIN:DAYLIGHT
TZOFFSETFROM:-0500
TZOFFSETTO:-0400
TZNAME:EDT
DTSTART:20220313T070000
END:DAYLIGHT
BEGIN:STANDARD
TZOFFSETFROM:-0400
TZOFFSETTO:-0500
TZNAME:EST
DTSTART:20221106T060000
END:STANDARD
BEGIN:DAYLIGHT
TZOFFSETFROM:-0500
TZOFFSETTO:-0400
TZNAME:EDT
DTSTART:20230312T070000
END:DAYLIGHT
BEGIN:STANDARD
TZOFFSETFROM:-0400
TZOFFSETTO:-0500
TZNAME:EST
DTSTART:20231105T060000
END:STANDARD
BEGIN:DAYLIGHT
TZOFFSETFROM:-0500
TZOFFSETTO:-0400
TZNAME:EDT
DTSTART:20240310T070000
END:DAYLIGHT
BEGIN:STANDARD
TZOFFSETFROM:-0400
TZOFFSETTO:-0500
TZNAME:EST
DTSTART:20241103T060000
END:STANDARD
BEGIN:DAYLIGHT
TZOFFSETFROM:-0500
TZOFFSETTO:-0400
TZNAME:EDT
DTSTART:20250309T070000
END:DAYLIGHT
BEGIN:STANDARD
TZOFFSETFROM:-0400
TZOFFSETTO:-0500
TZNAME:EST
DTSTART:20251102T060000
END:STANDARD
BEGIN:DAYLIGHT
TZOFFSETFROM:-0500
TZOFFSETTO:-0400
TZNAME:EDT
DTSTART:20260308T070000
END:DAYLIGHT
BEGIN:STANDARD
TZOFFSETFROM:-0400
TZOFFSETTO:-0500
TZNAME:EST
DTSTART:20261101T060000
END:STANDARD
END:VTIMEZONE
BEGIN:VEVENT
DTSTART;TZID=America/Toronto:20251117T110000
DTEND;TZID=America/Toronto:20251117T120000
DTSTAMP:20260421T055034
CREATED:20251010T175047Z
LAST-MODIFIED:20251010T175047Z
UID:23450-1763377200-1763380800@www.jobgym.com
SUMMARY:Ontario Living Wage Network Presentation
DESCRIPTION:Join us for an engaging and informative virtual session with Anne Coleman from the Ontario Living Wage Network. \nDiscover what the living wage means for workers\, employers\, and our community—and how paying or advocating for a living wage helps build a stronger\, more equitable local economy. \nDescription of Presentation: A person working full time full year should be able to make ends meet. Each year the Ontario Living Wage Network (OLWN) calculates living wage rates for the province and celebrates employers who have made the commitment to pay employees at least a living wage. Anne Coleman from the OLWN will discuss how the living wage can benefit people\, business and community. Learn how your business can receive recognition for paying a living wage. \nWhether you’re a job seeker\, employer or community partner\, this session offers valuable insights into how living wage practices create positive change. \nDon’t miss this opportunity to learn and connect!
URL:https://www.jobgym.com/event/ontario-living-wage-network-presentation/
CATEGORIES:Virtual Programs
ATTACH;FMTTYPE=image/jpeg:https://www.jobgym.com/wp-content/uploads/2025/10/Job-Gym-Ontario-Living-Wage-Network-Presentation.jpg
END:VEVENT
BEGIN:VEVENT
DTSTART;TZID=America/Toronto:20250508T110000
DTEND;TZID=America/Toronto:20250508T120000
DTSTAMP:20260421T055034
CREATED:20250502T024832Z
LAST-MODIFIED:20250502T024832Z
UID:22237-1746702000-1746705600@www.jobgym.com
SUMMARY:OCTC Webinar
DESCRIPTION:Reimagining Workplaces: Succeeding Through Disability Inclusion \nDescription:\nIn a tight labor market\, businesses must think differently to attract and retain talent. As talent challenges continue to grow\, is your organization leveraging every opportunity to build a stronger workforce? Disability inclusion offers a unique advantage\, helping businesses address workforce gaps while fostering collaboration\, innovation\, and long-term success. In today’s competitive economy\, rethinking how your workplace embraces diversity and inclusion isthe key to standing out and succeeding.
URL:https://www.jobgym.com/event/octc-webinar/
CATEGORIES:Virtual Programs
ATTACH;FMTTYPE=image/jpeg:https://www.jobgym.com/wp-content/uploads/2025/05/OCTC-Webinar.jpg
END:VEVENT
BEGIN:VEVENT
DTSTART;TZID=America/Toronto:20240625T140000
DTEND;TZID=America/Toronto:20240625T150000
DTSTAMP:20260421T055034
CREATED:20240617T173926Z
LAST-MODIFIED:20240617T173926Z
UID:20569-1719324000-1719327600@www.jobgym.com
SUMMARY:What Do Employers Want?
DESCRIPTION:Session Summary: Are you puzzled about what employers really want? Join us for an exclusive session with Kelly Jones from Kelly Jones Insurance and Financial Services Inc\, where you’ll gain valuable insights and practical tips to kickstart your career. \nSession Highlights \n\n Careers in Insurance: Explore diverse opportunities within the insurance sector and understand what it takes to succeed.\n Office Success: Learn strategies for thriving in office work environments\, including effective communication and time management.\n Team Dynamics: Discover the qualities of a good team member and how to enhance your collaboration skills.\n Employer Expectations: Get insider tips on what employers look for in applications\, interviews\, and on the job.\n\nJoin in virtually via Zoom Platform
URL:https://www.jobgym.com/event/what-do-employers-want/
CATEGORIES:Virtual Programs
ATTACH;FMTTYPE=image/jpeg:https://www.jobgym.com/wp-content/uploads/2024/06/whatdoemployerswant.jpg
END:VEVENT
BEGIN:VEVENT
DTSTART;TZID=America/Toronto:20240320T110000
DTEND;TZID=America/Toronto:20240320T120000
DTSTAMP:20260421T055034
CREATED:20230517T030423Z
LAST-MODIFIED:20230517T030423Z
UID:18743-1710932400-1710936000@www.jobgym.com
SUMMARY:Labour Market Information Session (Online)
DESCRIPTION:Trying to figure out your job interests or switch careers? This is the perfect session for you! Workforce Collective will join us to share the most up to date labour market data in Niagara. Learn which jobs are in demand and which ones are fizzling out. This is also a great session for employers to attend to learn more about the available labour pool in Niagara.
URL:https://www.jobgym.com/event/labour-market-information-session-online-4/
CATEGORIES:Virtual Programs
END:VEVENT
BEGIN:VEVENT
DTSTART;TZID=America/Toronto:20240319T120000
DTEND;TZID=America/Toronto:20240319T130000
DTSTAMP:20260421T055034
CREATED:20240304T155331Z
LAST-MODIFIED:20240304T155331Z
UID:20419-1710849600-1710853200@www.jobgym.com
SUMMARY:Lunch & Learn: Risk Management
DESCRIPTION:Join us for a dynamic Lunch & Learn virtual session on Risk Management and What To Expect in 2024 with speaker Joydeep Chakraborty from Axzora Group! Discover what lies ahead in 2024 and gain insights into navigating challenges such as the proliferation of False Information and its consequences\, Economic Uncertainty\, and a forward-looking perspective.
URL:https://www.jobgym.com/event/lunch-learn-risk-management/
CATEGORIES:Virtual Programs
ATTACH;FMTTYPE=image/jpeg:https://www.jobgym.com/wp-content/uploads/2024/03/Lunchandlearn-riskmanagement.jpg
END:VEVENT
BEGIN:VEVENT
DTSTART;TZID=America/Toronto:20240228T110000
DTEND;TZID=America/Toronto:20240228T120000
DTSTAMP:20260421T055034
CREATED:20230517T030323Z
LAST-MODIFIED:20230517T030323Z
UID:18741-1709118000-1709121600@www.jobgym.com
SUMMARY:Apprenticeship Information Session (Online)
DESCRIPTION:Interested in learning more about the apprenticeship process and resources to help you get into a trade? Join us as we host the Apprenticesearch.com team!
URL:https://www.jobgym.com/event/apprenticeship-information-session-online-4/
CATEGORIES:Virtual Programs
END:VEVENT
BEGIN:VEVENT
DTSTART;TZID=America/Toronto:20240221T110000
DTEND;TZID=America/Toronto:20240221T120000
DTSTAMP:20260421T055034
CREATED:20230517T030239Z
LAST-MODIFIED:20230517T030239Z
UID:18739-1708513200-1708516800@www.jobgym.com
SUMMARY:Employment Standards Act Information Session (Online)
DESCRIPTION:In this session\, learn the basics about the Employment Standards Act directly from an Employment Standards Officer! This is a great opportunity to learn your rights\, as well as obligations in the workplace.
URL:https://www.jobgym.com/event/employment-standards-act-information-session-online/
CATEGORIES:Virtual Programs
END:VEVENT
BEGIN:VEVENT
DTSTART;TZID=America/Toronto:20240220T120000
DTEND;TZID=America/Toronto:20240220T130000
DTSTAMP:20260421T055034
CREATED:20240208T163145Z
LAST-MODIFIED:20240208T163416Z
UID:19760-1708430400-1708434000@www.jobgym.com
SUMMARY:Virtual Lunch and Learn
DESCRIPTION:Proud sponsors of the South Niagara Chamber of Commerce Virtual Lunch & Learn Series!\nNEXT SESSION!\nDate: February 20\, 2024\nTime: 12:00pm – 1:00pm \nJoin us for the Road Map to Simple Safety Solutions Lunch and Learn. With a group of panelists from Workplace Safety & Prevention\, this session will give you\, as a business owner\, information on health and safety basics such as\, employee rights and employer responsibilities.
URL:https://www.jobgym.com/event/virtual-lunch-and-learn/
CATEGORIES:Virtual Programs
ATTACH;FMTTYPE=image/jpeg:https://www.jobgym.com/wp-content/uploads/2024/02/lunchandlearn.jpg
END:VEVENT
BEGIN:VEVENT
DTSTART;TZID=America/Toronto:20231213T110000
DTEND;TZID=America/Toronto:20231213T120000
DTSTAMP:20260421T055034
CREATED:20230517T030144Z
LAST-MODIFIED:20230517T030144Z
UID:18737-1702465200-1702468800@www.jobgym.com
SUMMARY:Labour Market Information Session (Online)
DESCRIPTION:Trying to figure out your job interests or switch careers? This is the perfect session for you! Workforce Collective will join us to share the most up to date labour market data in Niagara. Learn which jobs are in demand and which ones are fizzling out. This is also a great session for employers to attend to learn more about the available labour pool in Niagara.
URL:https://www.jobgym.com/event/labour-market-information-session-online-3/
CATEGORIES:Virtual Programs
END:VEVENT
BEGIN:VEVENT
DTSTART;TZID=America/Toronto:20231122T110000
DTEND;TZID=America/Toronto:20231122T120000
DTSTAMP:20260421T055034
CREATED:20230517T030102Z
LAST-MODIFIED:20230517T030102Z
UID:18735-1700650800-1700654400@www.jobgym.com
SUMMARY:Apprenticeship Information Session (Online)
DESCRIPTION:Interested in learning more about the apprenticeship process and resources to help you get into a trade? Join us as we host the Apprenticesearch.com team!
URL:https://www.jobgym.com/event/apprenticeship-information-session-online-3/
CATEGORIES:Virtual Programs
END:VEVENT
BEGIN:VEVENT
DTSTART;TZID=America/Toronto:20230913T080000
DTEND;TZID=America/Toronto:20230913T170000
DTSTAMP:20260421T055034
CREATED:20230517T030012Z
LAST-MODIFIED:20230517T030012Z
UID:18733-1694592000-1694624400@www.jobgym.com
SUMMARY:Labour Market Information Session (Online)
DESCRIPTION:Trying to figure out your job interests or switch careers? This is the perfect session for you! Workforce Collective will join us to share the most up to date labour market data in Niagara. Learn which jobs are in demand and which ones are fizzling out. This is also a great session for employers to attend to learn more about the available labour pool in Niagara.
URL:https://www.jobgym.com/event/labour-market-information-session-online-2/
CATEGORIES:Virtual Programs
END:VEVENT
BEGIN:VEVENT
DTSTART;TZID=America/Toronto:20230823T110000
DTEND;TZID=America/Toronto:20230823T120000
DTSTAMP:20260421T055034
CREATED:20230517T025927Z
LAST-MODIFIED:20230517T025927Z
UID:18731-1692788400-1692792000@www.jobgym.com
SUMMARY:Apprenticeship Information Session (Online)
DESCRIPTION:Interested in learning more about the apprenticeship process and resources to help you get into a trade? Join us as we host the Apprenticesearch.com team!
URL:https://www.jobgym.com/event/apprenticeship-information-session-online-2/
CATEGORIES:Virtual Programs
END:VEVENT
BEGIN:VEVENT
DTSTART;TZID=America/Toronto:20230614T110000
DTEND;TZID=America/Toronto:20230614T120000
DTSTAMP:20260421T055034
CREATED:20230517T025810Z
LAST-MODIFIED:20230517T025810Z
UID:18729-1686740400-1686744000@www.jobgym.com
SUMMARY:Labour Market Information Session (Online)
DESCRIPTION:Trying to figure out your job interests or switch careers? This is the perfect session for you! Workforce Collective will join us to share the most up to date labour market data in Niagara. Learn which jobs are in demand and which ones are fizzling out. This is also a great session for employers to attend to learn more about the available labour pool in Niagara.
URL:https://www.jobgym.com/event/labour-market-information-session-online/
CATEGORIES:Virtual Programs
END:VEVENT
BEGIN:VEVENT
DTSTART;TZID=America/Toronto:20230524T110000
DTEND;TZID=America/Toronto:20230524T120000
DTSTAMP:20260421T055034
CREATED:20230517T025119Z
LAST-MODIFIED:20230517T025828Z
UID:18723-1684926000-1684929600@www.jobgym.com
SUMMARY:Apprenticeship Information Session (Online)
DESCRIPTION:Interested in learning more about the apprenticeship process and resources to help you get into a trade? Join us as we host the Apprenticesearch.com team! 
URL:https://www.jobgym.com/event/apprenticeship-information-session-online/
CATEGORIES:Virtual Programs
END:VEVENT
BEGIN:VEVENT
DTSTART;TZID=America/Toronto:20230321T150000
DTEND;TZID=America/Toronto:20230321T170000
DTSTAMP:20260421T055034
CREATED:20230307T152204Z
LAST-MODIFIED:20230307T170854Z
UID:18514-1679410800-1679418000@www.jobgym.com
SUMMARY:Niagara City Cruises Virtual Recruitment Information Session!
DESCRIPTION:Job Gym is pleased to host the Niagara City Cruises recruitment team for a Virtual Recruitment Information Session!\nNot sure who this company is or what they hire for? This is the perfect opportunity to connect directly with the employer to learn about them and decide if this could be the perfect job for you!
URL:https://www.jobgym.com/event/niagara-city-cruises-virtual-recruitment-information-session/
CATEGORIES:Job Fair,Virtual Programs
ATTACH;FMTTYPE=image/jpeg:https://www.jobgym.com/wp-content/uploads/2023/02/post-featured-NiagaraCityCruises-1.jpg
END:VEVENT
BEGIN:VEVENT
DTSTART;TZID=America/Toronto:20220928T110000
DTEND;TZID=America/Toronto:20220928T120000
DTSTAMP:20260421T055034
CREATED:20220921T040105Z
LAST-MODIFIED:20220921T040105Z
UID:18017-1664362800-1664366400@www.jobgym.com
SUMMARY:Habitat for Humanity - Info Session
DESCRIPTION:Job Gym is excited to host Habitat for Humanity Niagara’s Volunteer Recruitment and Engagement team! Join us to learn about the amazing volunteer opportunities available throughout their Niagara locations.
URL:https://www.jobgym.com/event/habitat-for-humanity-info-session/
CATEGORIES:Virtual Programs
ATTACH;FMTTYPE=image/jpeg:https://www.jobgym.com/wp-content/uploads/2022/09/post-featured-HabitatforHumanity-InfoSession.jpg
END:VEVENT
BEGIN:VEVENT
DTSTART;TZID=America/Toronto:20220816T140000
DTEND;TZID=America/Toronto:20220816T150000
DTSTAMP:20260421T055034
CREATED:20220809T143838Z
LAST-MODIFIED:20220809T143838Z
UID:17846-1660658400-1660662000@www.jobgym.com
SUMMARY:March of Dimes Canada – Virtual Information Session
DESCRIPTION:Join us for a presentation by Shelby Hemingway (March of Dimes Canada) to discuss the organization’s goal & vision\, and current job opportunities.
URL:https://www.jobgym.com/event/march-of-dimes-canada-virtual-information-session/
CATEGORIES:Virtual Programs
ATTACH;FMTTYPE=image/jpeg:https://www.jobgym.com/wp-content/uploads/2022/08/post-featured-MarchofDimes.jpg
END:VEVENT
END:VCALENDAR